BEGIN:VCALENDAR
VERSION:2.0
PRODID:-//Silvia Salzmann - ECPv6.15.20//NONSGML v1.0//EN
CALSCALE:GREGORIAN
METHOD:PUBLISH
X-WR-CALNAME:Silvia Salzmann
X-ORIGINAL-URL:https://silviasalzmann.com
X-WR-CALDESC:Veranstaltungen für Silvia Salzmann
REFRESH-INTERVAL;VALUE=DURATION:PT1H
X-Robots-Tag:noindex
X-PUBLISHED-TTL:PT1H
BEGIN:VTIMEZONE
TZID:Europe/Berlin
BEGIN:DAYLIGHT
TZOFFSETFROM:+0100
TZOFFSETTO:+0200
TZNAME:CEST
DTSTART:20160327T010000
END:DAYLIGHT
BEGIN:STANDARD
TZOFFSETFROM:+0200
TZOFFSETTO:+0100
TZNAME:CET
DTSTART:20161030T010000
END:STANDARD
BEGIN:DAYLIGHT
TZOFFSETFROM:+0100
TZOFFSETTO:+0200
TZNAME:CEST
DTSTART:20170326T010000
END:DAYLIGHT
BEGIN:STANDARD
TZOFFSETFROM:+0200
TZOFFSETTO:+0100
TZNAME:CET
DTSTART:20171029T010000
END:STANDARD
BEGIN:DAYLIGHT
TZOFFSETFROM:+0100
TZOFFSETTO:+0200
TZNAME:CEST
DTSTART:20180325T010000
END:DAYLIGHT
BEGIN:STANDARD
TZOFFSETFROM:+0200
TZOFFSETTO:+0100
TZNAME:CET
DTSTART:20181028T010000
END:STANDARD
END:VTIMEZONE
BEGIN:VEVENT
DTSTART;TZID=Europe/Berlin:20171007T190000
DTEND;TZID=Europe/Berlin:20171007T220000
DTSTAMP:20260419T191729
CREATED:20170824T165545Z
LAST-MODIFIED:20171013T164133Z
UID:269-1507402800-1507413600@silviasalzmann.com
SUMMARY:Inner Minds
DESCRIPTION:Choreografie und Tanz: Silvia Salzmann \nKomposition und Musik: Michael Denhoff \n  \nVorstellung des 15 Minütigen Programms um 19:00 und 21:45 im Rahmen der „ORF Lange nacht der Museen“.
URL:https://silviasalzmann.com/event/inner-minds/
LOCATION:Skulpturale Lindau\, In der Hofstatt 1\, Lindau\,  88131\, Deutschland
CATEGORIES:Tanzveranstaltungen
ATTACH;FMTTYPE=image/jpeg:https://silviasalzmann.com/wp-content/uploads/2017/08/Flüsterling_1-e1542709203617.jpg
END:VEVENT
BEGIN:VEVENT
DTSTART;TZID=Europe/Berlin:20171012T190000
DTEND;TZID=Europe/Berlin:20171012T210000
DTSTAMP:20260419T191729
CREATED:20171005T074102Z
LAST-MODIFIED:20171013T164210Z
UID:303-1507834800-1507842000@silviasalzmann.com
SUMMARY:ÜBER SETZEN beim open space
DESCRIPTION:openSpace\, das Feedbackformat von netzwerkTanz\nBeim openSpace finden Tänzerinnen und Tänzer eine Bühne. Hier können sie Ideen\, Konzepte und bereits fertige Kurzstücke vor Publikum ausprobieren. Dabei ist es egal\, ob die Auftretenden noch in der Ausbildung oder in der Tanzszene bereits etabliert sind.  Ein Feedbackteam aus den Bereichen Tanz und Kunst gibt den Tanzschaffenden auf der Bühne Rückmeldungen zu den Präsentationen. Das Publikum kann über Feedbackbögen seine persönlichen Eindrücke mitteilen. \nDer nächste openSpace findet am 12. Oktober 2017 in der Remise in Bludenz statt. \nMit dabei sind: \nAmadeus Pawlica und Katarina Vlasova (D) mit „Liebe“\nSarah Blumenfeld (A) mit „de Landstreicherei“\nJugendclub Junges Landestheater Vorarlberg (V) mit „über setzen“\nVerena Wohlrab und Beate Buchsbaum (V) mit dis/connect
URL:https://silviasalzmann.com/event/ueber-setzen-beim-open-space/
LOCATION:Remise Bludenz\, Werdenbergerstraße 42\, Bludenz\, 6700\, Österreich
CATEGORIES:Tanzveranstaltungen
ATTACH;FMTTYPE=image/jpeg:https://silviasalzmann.com/wp-content/uploads/2017/10/21730795_1177418425736112_7945805067236943660_n.jpg
END:VEVENT
BEGIN:VEVENT
DTSTART;TZID=Europe/Berlin:20171027T200000
DTEND;TZID=Europe/Berlin:20171027T233000
DTSTAMP:20260419T191729
CREATED:20170823T204057Z
LAST-MODIFIED:20171013T162256Z
UID:196-1509134400-1509147000@silviasalzmann.com
SUMMARY:MORE - Das Stück
DESCRIPTION:DAUER: ca. 60 min \nKONTAKT  & RESERVIERUNG:  Silvia Salzmann\, +43 664 3014485\, silvisalzi@gmx.net \nwww.more-dasstueck.com \nKARTEN: € 15\,- / 12\,- ermäßigt \n 
URL:https://silviasalzmann.com/event/more/
LOCATION:Alte Seifenfabrik Lauterach\, Bahnhofstraße 3\, Lauterach\, Vorarlberg\, 6923\, Österreich
CATEGORIES:Tanzveranstaltungen
ATTACH;FMTTYPE=image/jpeg:https://silviasalzmann.com/wp-content/uploads/2017/08/MORE_Auswahl_Print-2.jpg
END:VEVENT
BEGIN:VEVENT
DTSTART;TZID=Europe/Berlin:20171028T200000
DTEND;TZID=Europe/Berlin:20171028T233000
DTSTAMP:20260419T191729
CREATED:20170824T164717Z
LAST-MODIFIED:20171013T162426Z
UID:265-1509220800-1509233400@silviasalzmann.com
SUMMARY:MORE - Das Stück
DESCRIPTION:DAUER: ca. 60 min \nKONTAKT  & RESERVIERUNG:  Silvia Salzmann\, +43 664 3014485\, silvisalzi@gmx.net \nwww.more-dasstueck.com \nKARTEN: € 15\,- / 12\,- ermäßigt
URL:https://silviasalzmann.com/event/more-das-stueck/
LOCATION:Alte Seifenfabrik Lauterach\, Bahnhofstraße 3\, Lauterach\, Vorarlberg\, 6923\, Österreich
CATEGORIES:Tanzveranstaltungen
ATTACH;FMTTYPE=image/jpeg:https://silviasalzmann.com/wp-content/uploads/2017/08/MORE_Auswahl_Print-2.jpg
END:VEVENT
END:VCALENDAR