BEGIN:VCALENDAR
VERSION:2.0
PRODID:-//Silvia Salzmann - ECPv6.15.20//NONSGML v1.0//EN
CALSCALE:GREGORIAN
METHOD:PUBLISH
X-ORIGINAL-URL:https://silviasalzmann.com
X-WR-CALDESC:Veranstaltungen für Silvia Salzmann
REFRESH-INTERVAL;VALUE=DURATION:PT1H
X-Robots-Tag:noindex
X-PUBLISHED-TTL:PT1H
BEGIN:VTIMEZONE
TZID:Europe/Berlin
BEGIN:DAYLIGHT
TZOFFSETFROM:+0100
TZOFFSETTO:+0200
TZNAME:CEST
DTSTART:20210328T010000
END:DAYLIGHT
BEGIN:STANDARD
TZOFFSETFROM:+0200
TZOFFSETTO:+0100
TZNAME:CET
DTSTART:20211031T010000
END:STANDARD
BEGIN:DAYLIGHT
TZOFFSETFROM:+0100
TZOFFSETTO:+0200
TZNAME:CEST
DTSTART:20220327T010000
END:DAYLIGHT
BEGIN:STANDARD
TZOFFSETFROM:+0200
TZOFFSETTO:+0100
TZNAME:CET
DTSTART:20221030T010000
END:STANDARD
BEGIN:DAYLIGHT
TZOFFSETFROM:+0100
TZOFFSETTO:+0200
TZNAME:CEST
DTSTART:20230326T010000
END:DAYLIGHT
BEGIN:STANDARD
TZOFFSETFROM:+0200
TZOFFSETTO:+0100
TZNAME:CET
DTSTART:20231029T010000
END:STANDARD
END:VTIMEZONE
BEGIN:VEVENT
DTSTART;TZID=Europe/Berlin:20220912T100000
DTEND;TZID=Europe/Berlin:20220915T100000
DTSTAMP:20260423T004537
CREATED:20220804T130913Z
LAST-MODIFIED:20220830T082710Z
UID:1386-1662976800-1663236000@silviasalzmann.com
SUMMARY:scale me
DESCRIPTION:Von 12. – 15. September finden Schulvorstellungen nach „Bestellung“ statt. Ich bitte euch entweder direkt ans TaK Liechtenstein oder an mich zu wenden\, da die Spielorte und Zeiten variieren können!\nDANKE!\n\n\nTanzperformance\nUla Lazauskaite und Silvia Salzmann\, Liechtenstein/Österreich\n\n\n\nDie Wünsche\, Vorstellungen und Erwartungen\, die wir ans Leben haben\, kollidieren manchmal mit der Realität. In solchen Extremsituationen gleicht unser Innerstes einem Wackelbrett: Ein Schritt in die falsche Richtung und wir werden buchstäblich aus dem Leben geschleudert. \nIn der mobilen outdoor Performance «Scale me» gehen die Theatermacher:innen der Frage nach\, was uns zu Fall bringt\, welche Rolle dabei unsere Charaktereigenschaften spielen und was uns schliesslich hilft\, die verlorene Balance wiederzuerlangen\, wenn wir einmal aus dem Gleichgewicht geraten sind. \n\n\n\n\nChoreografie\nSilvia Salzmann \nDramaturgie\nUla Lazauskaite \nMusik\nRaphael Brunner \nMit\nSheena Brunhart\nRaphael Brunner\nSilvia Salzmann
URL:https://silviasalzmann.com/event/scale-me-2/
LOCATION:TaK Liechtenstein\, Reberastrasse 12\, Schaan\, 9494\, Liechtenstein
CATEGORIES:Tanzveranstaltungen
ATTACH;FMTTYPE=image/jpeg:https://silviasalzmann.com/wp-content/uploads/2022/08/Scale_Me_Probecsarahmistura-88-scaled.jpg
END:VEVENT
END:VCALENDAR