BEGIN:VCALENDAR
VERSION:2.0
PRODID:-//Silvia Salzmann - ECPv6.15.20//NONSGML v1.0//EN
CALSCALE:GREGORIAN
METHOD:PUBLISH
X-ORIGINAL-URL:https://silviasalzmann.com
X-WR-CALDESC:Veranstaltungen für Silvia Salzmann
REFRESH-INTERVAL;VALUE=DURATION:PT1H
X-Robots-Tag:noindex
X-PUBLISHED-TTL:PT1H
BEGIN:VTIMEZONE
TZID:Europe/Berlin
BEGIN:DAYLIGHT
TZOFFSETFROM:+0100
TZOFFSETTO:+0200
TZNAME:CEST
DTSTART:20210328T010000
END:DAYLIGHT
BEGIN:STANDARD
TZOFFSETFROM:+0200
TZOFFSETTO:+0100
TZNAME:CET
DTSTART:20211031T010000
END:STANDARD
BEGIN:DAYLIGHT
TZOFFSETFROM:+0100
TZOFFSETTO:+0200
TZNAME:CEST
DTSTART:20220327T010000
END:DAYLIGHT
BEGIN:STANDARD
TZOFFSETFROM:+0200
TZOFFSETTO:+0100
TZNAME:CET
DTSTART:20221030T010000
END:STANDARD
BEGIN:DAYLIGHT
TZOFFSETFROM:+0100
TZOFFSETTO:+0200
TZNAME:CEST
DTSTART:20230326T010000
END:DAYLIGHT
BEGIN:STANDARD
TZOFFSETFROM:+0200
TZOFFSETTO:+0100
TZNAME:CET
DTSTART:20231029T010000
END:STANDARD
END:VTIMEZONE
BEGIN:VEVENT
DTSTART;TZID=Europe/Berlin:20220816T200000
DTEND;TZID=Europe/Berlin:20220816T210000
DTSTAMP:20260422T143321
CREATED:20220804T115834Z
LAST-MODIFIED:20220804T115834Z
UID:1348-1660680000-1660683600@silviasalzmann.com
SUMMARY:Promenadenmischung
DESCRIPTION:Tanz | Leonie Humitsch\, Silvia Salzmann\nGeige | Paul Dangl\, Florian Sighartner\nCello | Carles Munoz Camarero\nKontrabass | Judith Ferstl\nPerkussion | Amir Wahba\nProduktion | freitanz – Verein für zeitgenössische Tanzprojekt \nAn drei Doppel-Terminen im Sommer\, wird an der Promenade und im Park in Millstatt eine Live-Performance bestehend aus zeitgenössischem Tanz und Weltmusik gespielt. Diese wird von den Gegebenheiten des Parks und der Promenade gestaltet und lässt dem Publikum viel Platz für unterschiedliche Blickwinkel und Detailsuche. So offen und vielseitig wie die Weltmusik ist auch das Thema der Produktion\, die sich mit Grenzüberschreitung\, Weitblick und Anpassungsfähigkeit und -widersetzung beschäftigt.\nDies zeichnet sich auch durch die Örtlichkeit aus: Millstatt\, ein Ort\, an dem vor allem in den Sommermonaten viele verschiedene Nationen\, Sprachen und Kulturen zusammenkommen.
URL:https://silviasalzmann.com/event/promenadenmischung/
LOCATION:Promenade Millstatt\, Millstatt\, 9872\, Österreich
CATEGORIES:Tanzveranstaltungen
ATTACH;FMTTYPE=image/jpeg:https://silviasalzmann.com/wp-content/uploads/2022/08/WhatsApp-Image-2022-07-08-at-00.57.15.jpeg
END:VEVENT
BEGIN:VEVENT
DTSTART;TZID=Europe/Berlin:20220817T200000
DTEND;TZID=Europe/Berlin:20220817T210000
DTSTAMP:20260422T143321
CREATED:20220804T120122Z
LAST-MODIFIED:20220804T120308Z
UID:1355-1660766400-1660770000@silviasalzmann.com
SUMMARY:Promenadenmischung
DESCRIPTION:Tanz | Leonie Humitsch\, Silvia Salzmann\nGeige | Paul Dangl\, Florian Sighartner\nCello | Carles Munoz Camarero\nKontrabass | Judith Ferstl\nPerkussion | Amir Wahba\nProduktion | freitanz – Verein für zeitgenössische Tanzprojekt \nAn drei Doppel-Terminen im Sommer\, wird an der Promenade und im Park in Millstatt eine Live-Performance bestehend aus zeitgenössischem Tanz und Weltmusik gespielt. Diese wird von den Gegebenheiten des Parks und der Promenade gestaltet und lässt dem Publikum viel Platz für unterschiedliche Blickwinkel und Detailsuche. So offen und vielseitig wie die Weltmusik ist auch das Thema der Produktion\, die sich mit Grenzüberschreitung\, Weitblick und Anpassungsfähigkeit und -widersetzung beschäftigt.\nDies zeichnet sich auch durch die Örtlichkeit aus: Millstatt\, ein Ort\, an dem vor allem in den Sommermonaten viele verschiedene Nationen\, Sprachen und Kulturen zusammenkommen.
URL:https://silviasalzmann.com/event/promenadenmischung-2/
LOCATION:Promenade Millstatt\, Millstatt\, 9872\, Österreich
CATEGORIES:Tanzveranstaltungen
ATTACH;FMTTYPE=image/jpeg:https://silviasalzmann.com/wp-content/uploads/2022/08/WhatsApp-Image-2022-07-08-at-00.57.15.jpeg
END:VEVENT
END:VCALENDAR