BEGIN:VCALENDAR
VERSION:2.0
PRODID:-//Silvia Salzmann - ECPv6.15.20//NONSGML v1.0//EN
CALSCALE:GREGORIAN
METHOD:PUBLISH
X-WR-CALNAME:Silvia Salzmann
X-ORIGINAL-URL:https://silviasalzmann.com
X-WR-CALDESC:Veranstaltungen für Silvia Salzmann
REFRESH-INTERVAL;VALUE=DURATION:PT1H
X-Robots-Tag:noindex
X-PUBLISHED-TTL:PT1H
BEGIN:VTIMEZONE
TZID:Europe/Berlin
BEGIN:DAYLIGHT
TZOFFSETFROM:+0100
TZOFFSETTO:+0200
TZNAME:CEST
DTSTART:20210328T010000
END:DAYLIGHT
BEGIN:STANDARD
TZOFFSETFROM:+0200
TZOFFSETTO:+0100
TZNAME:CET
DTSTART:20211031T010000
END:STANDARD
BEGIN:DAYLIGHT
TZOFFSETFROM:+0100
TZOFFSETTO:+0200
TZNAME:CEST
DTSTART:20220327T010000
END:DAYLIGHT
BEGIN:STANDARD
TZOFFSETFROM:+0200
TZOFFSETTO:+0100
TZNAME:CET
DTSTART:20221030T010000
END:STANDARD
BEGIN:DAYLIGHT
TZOFFSETFROM:+0100
TZOFFSETTO:+0200
TZNAME:CEST
DTSTART:20230326T010000
END:DAYLIGHT
BEGIN:STANDARD
TZOFFSETFROM:+0200
TZOFFSETTO:+0100
TZNAME:CET
DTSTART:20231029T010000
END:STANDARD
END:VTIMEZONE
BEGIN:VEVENT
DTSTART;TZID=Europe/Berlin:20221104T193000
DTEND;TZID=Europe/Berlin:20221231T220000
DTSTAMP:20260422T063453
CREATED:20220804T125925Z
LAST-MODIFIED:20220804T130010Z
UID:1376-1667590200-1672524000@silviasalzmann.com
SUMMARY:NORA
DESCRIPTION:Ich habe die Ehre Choreografin und Tänzerin in Nora zu sein. \n  \nHenrik Ibsen Inszenierung: Birgit Schreyer Duarte\n\n\n\nMit NORA nehmen wir in dieser Saison ein Stück in unseren Spielplan auf\, das man selbstverständlich als auch heute immer noch notwendiges Plädoyer für den Feminismus lesen kann. Denn sicher: Ibsen war Mitglied im norwegischen „Verein für die Sache der Frau“\, war sowohl familiär als auch freundschaftlich maßgeblichen zeitgenössischen Protagonistinnen der Frauenbewegung verbunden. \nDennoch lehnte der Dramatiker die Ehre ab\, „… mit Bewusstsein für die Sache der Frau gewirkt zu haben. Ich bin mir nicht einmal klar darüber\, was die Sache der Frau eigentlich ist. Mir hat sie sich als eine Sache des Menschen dargestellt. (…) Es ist wohl wünschenswert\, die Frauenfrage zu lösen\, so nebenher. Aber das war nicht der hauptsächliche Zweck. Meine Aufgabe ist die Menschenschilderung gewesen.“\nEs geht also um mehr – und das ist es\, was den Stoff für uns so spannend und wichtig macht. Nora\, das Püppchen in einer lieblosen Ehe\, Nora\, die am Ende gegen alle Konventionen aufbegehren wird\, ist schließlich keineswegs passives Opfer gesellschaftlicher Umstände. Vielmehr nutzt sie die ihr zufallende Rolle als verwöhntes\, verspieltes Weibchen zunächst selbst sehr aktiv und festigt mit ihrem Verhalten den transaktionalen Charakter ihrer Beziehung. So bittet sie ihren Mann nicht um einen Gefallen nur um des Gefallens willen\, sondern schlägt ein Geschäft vor. Die Tauschware ist in diesem Fall Nora selbst\, ihre eigene Willfährigkeit: „Das Eichhörnchen würde umherspringen und Kapriolen machen\, wenn Du lieb und nachgiebig wärest. Die Lerche würde laut und leise durch alle Zimmer zwitschern. Ich würde wie die Elfen im Mondenschein spielen und vor Dir tanzen\, Torvald.“ \nErst in Noras Entwicklung kommt es zu Reflexion\, Widerstand und Rebellion: Sich selbst zu erkennen und radikal in Frage zu stellen\, das eigene Selbstverständnis neu zu konfigurieren – das sind grundlegende Voraussetzungen\, bevor es gelingen kann\, unerträglichen gesellschaftlichen Strukturen ihre normative Kraft abzuerkennen\, das Mitlaufen zu verweigern. Gestern wie heute.
URL:https://silviasalzmann.com/event/nora/
LOCATION:Vorarlberger Landestheater\, Seestraße 2\, Bregenz\, 6900\, Österreich
CATEGORIES:Tanzveranstaltungen
ATTACH;FMTTYPE=image/jpeg:https://silviasalzmann.com/wp-content/uploads/2022/08/media_17042948.jpeg
END:VEVENT
END:VCALENDAR